Workbook

Sheet فهرست
A1: فرم تدوین طرح کسب و کار
A3: 1 | B3: خلاصه طرح
A5: 2 | B5: مدیریت و سازماندهی | C5: مأموریت، چشم انداز و اهداف شرکت
C6: ساختار سازمانی و چارت سازمانی
A8: 3 | B8: فنی و عملیاتی | C8: محصول
C9: شرح فرآیند تولید
A11: 4 | B11: توصیف کسب و کار و بازار | C11: مشتریان
C12: مدل کسب و کار
C13: تحلیل رقبا و مزیت رقابتی شرکت
C14: تخمین نرخ تقاضا
C15: ورود به بازار
A17: 5 | B17: مالی | C17: پیش بینی فروش
C18: سرمایه گذاری ثابت
C19: هزینه های جاری سالانه
C20: پیش بینی هزینه های جاری در سالهای آتی
C21: سود آوری و نقطه سر به سر
A22: تهیه و تدوین: مهدی لعلی

Sheet 1
A1: طرح کسب و کار واحد فناور ..............................
A2: معرفی شرکت:
A4: معرفی محصول/ خدمات:
A6: بازار:
B8: سرمایه گذاری کل (میلیون ریال): | C8: ='10'!D6 -> 0
B9: سرمایه گذاری ثابت (میلیون ریال): | C9: ='10'!D4 -> 0
B10: سرمایه در گردش (میلیون ریال): | C10: ='10'!D5 -> 0
B12: درصد نقطه سر به سر: | C12: ='10'!D31 -> 0
B14: نرخ بازده داخلی (IRR): | C14: ='10'!D33 -> #NUM!
B16: اشتغال زایی (نفر): | C16: ='8'!C33 -> 0

Sheet 2
A1: مأموریت:
A4: چشم انداز:
A7: اهداف:
A10: نفرات شاخص و کلیدی مورد نیاز (تمام وقت/نیمه وقت؛ مشاور/ مالی/ علمی و فنی)
A11: ردیف | B11: نام و نام خانوادگی | C11: سمت در واحد | D11: تمام وقت / پاره وقت | E11: شرح وظایف اصلی
A12: 1
A13: 2
A14: 3
A15: 4
A16: 5
A17: 6
A18: 7
A19: 8
A20: 9
A21: 10

Sheet 3
A1: فنی و عملیاتی
A2: محصول
A3: شرح مختصر محصول:
A5: مهارت های لازم برای استفاده از محصول:
A7: نحوه صحه گذاری و ارزیابی کیفی محصول نهایی چگونه است؟
A10: شرح فرآیند تولید
A11: شرح عملیات تولید/ نحوه ارائه خدمت
A13: توان تولید واحد در یک بازه مشخص زمانی

Sheet 4
A1: توصیف کسب و کار و بازار
A2: مشتریان
A3: مشتریان بالقوه در بازار چه کسانی هستند ؟
A5: بخش های مختلف بازار خود را توصیف دهید.
A7: بازار هدف شما شامل کدام یک از بخش های شناسایی شده می باشد.
A10: مدل کسب و کار

Sheet 5
A1: کسب و کار و بازار
A2: تحلیل رقبا و مزیت رقابتی شرکت
A3: رقبای اصلی در بازار هدف شرکت و موقعیت جغرافیایی آنان.
A5: وضعیت سهم بازار
A6: 10 رقیب اصلی | B6: 1 | C6: 2 | D6: 3 | E6: 4 | F6: 5 | G6: 6 | H6: 7 | I6: 8 | J6: 9 | K6: 10
A7: نام رقبای اصلی | B7: شرکت 1 | C7: شرکت 2 | D7: شرکت 3 | E7: ظرفیت پاسخ داده نشده بازار
A8: سهم بازار
A11: مزیت های رقابتی و نسبی رقبا.
A12: 10 مزیت نسبی مهم در صنعت | B12: کیفیت محصول | C12: تمایز محصول | D12: خدمات پشتیبانی مناسب | E12: دارای سیستم قابل انعطاف عملیاتی | F12: دارا بودن از شبکه توزیع مناسب | G12: در اختیار داشتن مدیریت و نیروی مهندسی خوب | H12: پیشرو بودن/ جزء اولین وارد شدگان | I12: تولید کم هزینه | J12: توانایی مالی | K12: سایر
A13: شرکت خودمان
A14: شرکت 1
A15: شرکت 2
A16: شرکت 3
A17: شرکت 4
A18: شرکت 5
A19: شرکت 6
A20: شرکت 7
A21: شرکت 8
A22: شرکت 9
A23: شرکت 10
A25: مزیت رقابتی شرکت:
... A35: مجوزهای لازم برای ورود به بازار:

Sheet 6
A1: مالی (پیش بینی فروش)
A2: دوره مالی طرح: | P2: سال
A4: پیش بینی فروش
A5: ردیف | B5: عنوان محصول/ خدمات | C5: واحد محصول | D5: قیمت واحد محصول (هزار ریال) | E5: تعداد فروش در سال اول | F5: نرخ رشد فروش سالانه | G5: میزان فروش سال اول (میلیون ریال) | H5: تعداد فروش در سال دوم | I5: میزان فروش سال دوم (میلیون ریال) | J5: تعداد فروش در سال سوم | K5: میزان فروش سال سوم (میلیون ریال) | L5: تعداد فروش در سال چهارم | M5: میزان فروش سال چهارم (میلیون ریال) | N5: تعداد فروش در سال پنجم | O5: میزان فروش سال پنجم (میلیون ریال) | P5: مجموع فروش هر محصول در دوره مالی (میلیون ریال)
A6: 1 | B6: محصول 1 | C6: کیلوگرم | G6: =E6*D6/1000 -> 0 | H6: =IF('6'!C2=1,"0",F6*E6+E6) -> 0 | I6: =H6*D6/1000 -> 0 | J6: =IF('6'!C2<=2,0,H6*F6+H6) -> 0 | K6: =J6*D6/1000 -> 0 | L6: =IF('6'!C2<=3,0,F6*J6+J6) -> 0 | M6: =L6*D6/1000 -> 0 | N6: =IF('6'!C2<=4,0,F6*L6+L6) -> 0 | O6: =N6*D6/1000 -> 0 | P6: =O6+M6+K6+I6+G6 -> 0
A7: 2 | B7: محصول 2 | C7: کیلوگرم | G7: =E7*D7/1000 -> 0 | H7: =IF('6'!C2=1,"0",F7*E7+E7) -> 0 | I7: =H7*D7/1000 -> 0 | J7: =IF('6'!C2<=2,0,H7*F7+H7) -> 0 | K7: =J7*D7/1000 -> 0 | L7: =IF('6'!C2<=3,0,F7*J7+J7) -> 0 | M7: =L7*D7/1000 -> 0 | N7: =IF('6'!C2<=4,0,F7*L7+L7) -> 0 | O7: =N7*D7/1000 -> 0 | P7: =O7+M7+K7+I7+G7 -> 0
A8: 3 | G8: =E8*D8/1000 -> 0 | H8: =IF('6'!C2=1,"0",F8*E8+E8) -> 0 | I8: =H8*D8/1000 -> 0 | J8: =IF('6'!C2<=2,0,H8*F8+H8) -> 0 | K8: =J8*D8/1000 -> 0 | L8: =IF('6'!C2<=3,0,F8*J8+J8) -> 0 | M8: =L8*D8/1000 -> 0 | N8: =IF('6'!C2<=4,0,F8*L8+L8) -> 0 | O8: =N8*D8/1000 -> 0 | P8: =O8+M8+K8+I8+G8 -> 0
A9: 4 | G9: =E9*D9/1000 -> 0 | H9: =IF('6'!C2=1,"0",F9*E9+E9) -> 0 | I9: =H9*D9/1000 -> 0 | J9: =IF('6'!C2<=2,0,H9*F9+H9) -> 0 | K9: =J9*D9/1000 -> 0 | L9: =IF('6'!C2<=3,0,F9*J9+J9) -> 0 | M9: =L9*D9/1000 -> 0 | N9: =IF('6'!C2<=4,0,F9*L9+L9) -> 0 | O9: =N9*D9/1000 -> 0 | P9: =O9+M9+K9+I9+G9 -> 0
A10: 5 | G10: =E10*D10/1000 -> 0 | H10: =IF('6'!C6=1,"0",F10*E10+E10) -> 0 | I10: =H10*D10/1000 -> 0 | J10: =IF('6'!C2<=2,0,H10*F10+H10) -> 0 | K10: =J10*D10/1000 -> 0 | L10: =IF('6'!C2<=3,0,F10*J10+J10) -> 0 | M10: =L10*D10/1000 -> 0 | N10: =IF('6'!C2<=4,0,F10*L10+L10) -> 0 | O10: =N10*D10/1000 -> 0 | P10: =O10+M10+K10+I10+G10 -> 0
E11: جمع: | G11: =SUM(G6:G10) -> 0 | H11: جمع: | I11: =SUM(I6:I10) -> 0 | J11: جمع: | K11: =SUM(K6:K10) -> 0 | L11: جمع: | M11: =SUM(M6:M10) -> 0 | N11: جمع: | O11: =SUM(O6:O10) -> 0
A13: مجموع فروش محصولات/ خدمات در دوره مالی (میلیون ریال): | I13: =SUM(P6:P10) -> 0

Sheet 7
A1: مالی (سرمایه گذاری ثابت)
A2: زمین
A3: متـراژ ( متر مربع ) | C3: هزينه واحد ( هزارريال ) | D3: هزينه كل ( ميليون ريال )
D4: =C4*A4/1000 -> 0
A6: ساختمان
A7: رديف | B7: شــرح | C7: زيربنا (m2) | D7: هزينه واحد (هزار ريال) | E7: هزینه کل (میلیون ریال)
A8: 1 | B8: انبار مواد اوليه (سوله) | E8: =D8*C8/1000 -> 0
A9: 2 | B9: انبار محصول (سوله) | E9: =D9*C9/1000 -> 0
A10: 3 | B10: سالن توليد(سوله) | E10: =D10*C10/1000 -> 0
A11: 4 | B11: اداری | E11: =D11*C11/1000 -> 0
A12: 5 | E12: =D12*C12/1000 -> 0
A13: مجموع: | E13: =SUM(E8:E12) -> 0
A15: ماشین آلات و تجهیزات مورد نیاز:
A16: رديف | B16: شــرح | C16: تعداد | D16: هزينه واحد (میلیون ریال) | E16: هزينه كل (میلیون ریال)
A17: 1 | B17: دستگاه برش ورق | E17: =D17*C17 -> 0
A18: 2 | B18: قالب پلاستیک | E18: =D18*C18 -> 0
A19: 3 | B19: دستگاه مونتاژ اتوماتیک قطعات | E19: =D19*C19 -> 0
A20: 4 | B20: لوازم الکتریکی لازم | E20: =D20*C20 -> 0
A21: 5 | B21: لوازم تست | E21: =D21*C21 -> 0
A22: 6 | B22: دستگاه پرس | E22: =D22*C22 -> 0
A23: 7 | E23: =D23*C23 -> 0
A24: 8 | E24: =D24*C24 -> 0
A25: 9 | E25: =D25*C25 -> 0
A26: 10 | E26: =D26*C26 -> 0
A27: 11 | E27: =D27*C27 -> 0
A28: 12 | E28: =D28*C28 -> 0
A29: 13 | E29: =D29*C29 -> 0
A30: 14 | E30: =D30*C30 -> 0
A31: 15 | E31: =D31*C31 -> 0
A32: مجموع: | E32: =SUM(E17:E31) -> 0
A34: تاسیسات
A35: رديف | B35: شــرح | D35: هزينه (میلیون ریال)
A36: 1
A37: 2
A38: 3
A39: 4
A40: 5
A41: 6
A42: مجموع: | D42: =SUM(D36:E41) -> 0
A44: تجهیزات اداری
...

Sheet 8
A1: مالی (هزینه های جاری سالانه)
A2: مواد اولیه و نهاده های تولید
A3: ردیف | B3: شرح | C3: مصرف سالانه | D3: واحد | E3: هزینه واحد (هزار ریال) | F3: هزینه کل (میلیون ریال)
A4: 1 | F4: =C4*E4/1000 -> 0
A5: 2 | F5: =C5*E5/1000 -> 0
A6: 3 | F6: =C6*E6/1000 -> 0
A7: 4 | F7: =C7*E7/1000 -> 0
A8: 5 | F8: =C8*E8/1000 -> 0
A9: 6 | F9: =C9*E9/1000 -> 0
A10: 7 | F10: =C10*E10/1000 -> 0
A11: 8 | F11: =C11*E11/1000 -> 0
A12: 9 | F12: =C12*E12/1000 -> 0
A13: 10 | F13: =C13*E13/1000 -> 0
A14: 11 | F14: =C14*E14/1000 -> 0
A15: 12 | F15: =C15*E15/1000 -> 0
... A18: 15 | F18: =C18*E18/1000 -> 0
A19: جمع: | F19: =SUM(F4:F18) -> 0
A21: حقوق و دستمزد
A22: ردیف | B22: شرح | C22: تعداد | D22: حقوق ماهانه (هزار ریال) | F22: حقوق کل سالانه (میلیون ریال)
A23: 1 | B23: کارگر ساده | F23: =D23*C23*12/1000 -> 0
A24: 2 | B24: کارشناس فنی | F24: =D24*C24*12/1000 -> 0
A25: 3 | B25: مدیر فنی | F25: =D25*C25*12/1000 -> 0
A26: 4 | B26: کارمند اداری | F26: =D26*C26*12/1000 -> 0
A27: 5 | B27: مدیر فروش | F27: =D27*C27*12/1000 -> 0
A28: 6 | F28: =D28*C28*12/1000 -> 0
A29: 7 | F29: =D29*C29*12/1000 -> 0
A30: 8 | F30: =D30*C30*12/1000 -> 0
A31: 9 | F31: =D31*C31*12/1000 -> 0
A32: 10 | F32: =D32*C32*12/1000 -> 0
A33: جمع: | C33: =SUM(C23:C32) -> 0 | D33: --- | F33: =SUM(F23:F32) -> 0
A35: هزینه نگهداری و تعمیرات
A36: ردیف | B36: شرح | C36: ارزش دارایی | E36: نرخ | F36: هزینه کل (میلیون ریال)
A37: 1 | B37: ساختمان | C37: ='7'!D64 -> 0 | F37: =C37*E37 -> 0
A38: 2 | B38: ماشين‌آلات و تجهیزات | C38: ='7'!D65 -> 0 | F38: =C38*E38 -> 0
A39: 3 | B39: تاسيسات | C39: ='7'!D66 -> 0 | F39: =C39*E39 -> 0
A40: 4 | B40: تجهيزات اداري | C40: ='7'!D67 -> 0 | F40: =C40*E40 -> 0
A41: جمع: | F41: =SUM(F37:F40) -> 0
A43: سوخت و انرژی
A44: ردیف | B44: شرح | D44: هزینه های ماهانه (هزار ریال) | F44: هزینه سالانه (میلیون ریال)
A45: 1 | B45: آب | F45: =D45*12/1000 -> 0
...

Sheet 9
A1: پیش بینی هزینه جاری سال های آینده در دوره مالی
A2: ردیف | B2: عنوان | C2: هزینه سال اول (میلیون ریال) | D2: نرخ رشد یا تنزیل سالانه | E2: هزینه سال دوم (میلیون ریال) | F2: هزینه سال سوم (میلیون ریال) | G2: هزینه سال چهارم (میلیون ریال) | H2: هزینه سال پنجم (میلیون ریال) | I2: هزینه کل: (میلیون ریال)
A3: 1 | B3: مواد اولیه و نهاده های تولید | C3: ='8'!E74 -> 0 | D3: ='6'!F6 -> 0 | E3: =IF('6'!C2=1,"0",D3*C3+C3) -> 0 | F3: =IF('6'!C2<=2,0,E3*D3+E3) -> 0 | G3: =IF('6'!C2<=3,0,F3*D3+F3) -> 0 | H3: =IF('6'!C2<=4,0,G3*D3+G3) -> 0 | I3: =C3+E3+F3+G3+H3 -> 0
A4: 2 | B4: حقوق و دستمزد | C4: ='8'!E75 -> 0 | E4: =IF('6'!C2=1,"0",D4*C4+C4) -> 0 | F4: =IF('6'!C2<=2,0,E4*D4+E4) -> 0 | G4: =IF('6'!C2<=3,0,F4*D4+F4) -> 0 | H4: =IF('6'!C2<=4,0,G4*D4+G4) -> 0 | I4: =C4+E4+F4+G4+H4 -> 0
A5: 3 | B5: هزینه نگهداری و تعمیرات | C5: ='8'!E76 -> 0 | E5: =IF('6'!C2=1,"0",D5*C5+C5) -> 0 | F5: =IF('6'!C2<=2,0,E5*D5+E5) -> 0 | G5: =IF('6'!C2<=3,0,F5*D5+F5) -> 0 | H5: =IF('6'!C2<=4,0,G5*D5+G5) -> 0 | I5: =C5+E5+F5+G5+H5 -> 0
A6: 4 | B6: سوخت و انرژی | C6: ='8'!E77 -> 0 | E6: =IF('6'!C2=1,"0",D6*C6+C6) -> 0 | F6: =IF('6'!C2<=2,0,E6*D6+E6) -> 0 | G6: =IF('6'!C2<=3,0,F6*D6+F6) -> 0 | H6: =IF('6'!C2<=4,0,G6*D6+G6) -> 0 | I6: =C6+E6+F6+G6+H6 -> 0
A7: 5 | B7: بازاریابی و تبلیغات | C7: ='8'!E78 -> 0 | E7: =IF('6'!C2=1,"0",D7*C7+C7) -> 0 | F7: =IF('6'!C2<=2,0,E7*D7+E7) -> 0 | G7: =IF('6'!C2<=3,0,F7*D7+F7) -> 0 | H7: =IF('6'!C2<=4,0,G7*D7+G7) -> 0 | I7: =C7+E7+F7+G7+H7 -> 0
A8: 6 | B8: هزینه اجاره | C8: ='8'!E79 -> 0 | E8: =IF('6'!C2=1,"0",D8*C8+C8) -> 0 | F8: =IF('6'!C2<=2,0,E8*D8+E8) -> 0 | G8: =IF('6'!C2<=3,0,F8*D8+F8) -> 0 | H8: =IF('6'!C2<=4,0,G8*D8+G8) -> 0 | I8: =C8+E8+F8+G8+H8 -> 0
A9: 7 | B9: هزینه های برون سپاری | C9: ='8'!E80 -> 0 | E9: =IF('6'!C2=1,"0",D9*C9+C9) -> 0 | F9: =IF('6'!C2<=2,0,E9*D9+E9) -> 0 | G9: =IF('6'!C2<=3,0,F9*D9+F9) -> 0 | H9: =IF('6'!C2<=4,0,G9*D9+G9) -> 0 | I9: =C9+E9+F9+G9+H9 -> 0
A10: مجموع : | E10: =SUM(E3:E9) -> 0 | F10: =SUM(F3:F9) -> 0 | G10: =SUM(G3:G9) -> 0 | H10: =SUM(H3:H9) -> 0

Sheet 10
A1: مالی (سود آوری و نقطه سر به سر)
A3: مجموع سرمایه گذاری طرح:
A4: مجموع سرمایه گذاری ثابت: | D4: ='7'!D71 -> 0 | F4: میلیون ریال
A5: سرمایه در گردش: | D5: ='8'!F89 -> 0 | F5: میلیون ریال
A6: مجموع سرمایه گذاری طرح: | D6: =SUM(D4:D5) -> 0 | F6: میلیون ریال
A8: سود / زیان
A9: شرح | B9: سال اول | C9: سال دوم | D9: سال سوم | E9: سال چهارم | F9: سال پنجم
A10: درآمد سالانه (میلیون ریال) | B10: ='6'!G11 -> 0 | C10: ='6'!I11 -> 0 | D10: ='6'!K11 -> 0 | E10: ='6'!M11 -> 0 | F10: ='6'!O11 -> 0
A11: هزینه سالانه (میلیون ریال) | B11: ='8'!E83 -> 0 | C11: ='9'!E10 -> 0 | D11: ='9'!F10 -> 0 | E11: ='9'!G10 -> 0 | F11: ='9'!H10 -> 0
A12: سود ناخالص (میلیون ریال) | B12: =B10-B11 -> 0 | C12: =C10-C11 -> 0 | D12: =D10-D11 -> 0 | E12: =E10-E11 -> 0 | F12: =F10-F11 -> 0
A14: تفکیک هزینه ها در دوره مالی به ثابت و متغیر
A15: عنوان | B15: هزینه کل (میلیون ریال) | C15: هزینه ثابت | E15: هزینه متغیر
C16: درصد | D16: مبلغ | E16: درصد | F16: مبلغ
A17: زمین | B17: ='7'!D63 -> 0 | D17: =C17*B17/100 -> 0 | F17: =E17*B17/100 -> 0
A18: ساختمان | B18: ='7'!D64 -> 0 | D18: =C18*B18/100 -> 0 | F18: =E18*B18/100 -> 0
A19: ماشین آلات و تجهیزات مورد نیاز | B19: ='7'!D65 -> 0 | D19: =C19*B19/100 -> 0 | F19: =E19*B19/100 -> 0
A20: تاسیسات | B20: ='7'!D66 -> 0 | D20: =C20*B20/100 -> 0 | F20: =E20*B20/100 -> 0
A21: تجهیزات اداری | B21: ='7'!D67 -> 0 | D21: =C21*B21/100 -> 0 | F21: =E21*B21/100 -> 0
A22: مواد اولیه و نهاده های تولید | B22: ='9'!I3 -> 0 | D22: =C22*B22/100 -> 0 | F22: =E22*B22/100 -> 0
A23: حقوق و دستمزد | B23: ='9'!I4 -> 0 | D23: =C23*B23/100 -> 0 | F23: =E23*B23/100 -> 0
A24: هزینه نگهداری و تعمیرات | B24: ='9'!I5 -> 0 | D24: =C24*B24/100 -> 0 | F24: =E24*B24/100 -> 0
A25: سوخت و انرژی | B25: ='9'!I6 -> 0 | D25: =C25*B25/100 -> 0 | F25: =E25*B25/100 -> 0
A26: بازاریابی و تبلیغات | B26: ='9'!I7 -> 0 | D26: =C26*B26/100 -> 0 | F26: =E26*B26/100 -> 0
A27: هزینه اجاره | B27: ='9'!I8 -> 0 | D27: =C27*B27/100 -> 0 | F27: =E27*B27/100 -> 0
A28: هزینه های برون سپاری | B28: ='9'!I9 -> 0 | D28: =C28*B28/100 -> 0 | F28: =E28*B28/100 -> 0
C29: جمع هزینه ثابت (میلیون ریال) | D29: =SUM(D17:D28) -> 0 | E29: جمع هزینه متغیر (میلیون ریال) | F29: =SUM(F17:F28) -> 0
A31: نقطه سر به سر (درصد)= | D31: =(D29/('6'!I13+0.00005-'10'!F29))*100 -> 0
A33: نرخ بازده داخلی (IRR) = | D33: ='-'!E7 -> #NUM!

Sheet -
E1: =- '10'!D6 -> 0
A2: 1 | C2: تمام وقت | E2: ='10'!B12 -> 0
A3: 2 | C3: پاره وقت | E3: ='10'!C12 -> 0
A4: 3 | E4: ='10'!D12 -> 0
A5: 4 | E5: ='10'!E12 -> 0
A6: 5 | E6: ='10'!F12 -> 0
E7: =IRR(E1:E6) -> #NUM!
A8: 0.02
A9: 0.04
A10: 0.06
A11: 0.08
A12: 0.1
B14: 1
B15: 2
B16: 3
B17: 4
B18: 5
A19: 0 | B19: 6
A20: 0.1
A21: 0.15
A22: 0.2
A23: 0.25
A24: 0.3
A25: -0.05
A26: -0.1
A29: 0
A30: 1
A31: 2
A32: 3
A33: 4
... A39: 10
